BEGIN:VCALENDAR
VERSION:2.0
PRODID:-//ChamberMaster//Event Calendar 2.0//EN
METHOD:PUBLISH
X-PUBLISHED-TTL:P3D
REFRESH-INTERVAL:P3D
CALSCALE:GREGORIAN
BEGIN:VEVENT
DTSTART:20181007T194500Z
DTEND:20181007T201500Z
X-MICROSOFT-CDO-ALLDAYEVENT:FALSE
SUMMARY:JFL Home Game - Canton Senior Varsity
DESCRIPTION:Canton JFL - Canton Senior Varsity Home Game
X-ALT-DESC;FMTTYPE=text/html:Canton JFL - Canton Senior Varsity Home Game<br />\n&nbsp\;
LOCATION:JFL Football Field
UID:e.1688.5806
SEQUENCE:3
DTSTAMP:20260426T031708Z
URL:https://members.cantonillinois.org/events/details/jfl-home-game-canton-senior-varsity-5806
END:VEVENT

END:VCALENDAR
