BEGIN:VCALENDAR
VERSION:2.0
PRODID:-//ChamberMaster//Event Calendar 2.0//EN
METHOD:PUBLISH
X-PUBLISHED-TTL:P3D
REFRESH-INTERVAL:P3D
CALSCALE:GREGORIAN
BEGIN:VEVENT
DTSTART:20181013T171500Z
DTEND:20181013T183000Z
X-MICROSOFT-CDO-ALLDAYEVENT:FALSE
SUMMARY:JFL Home Game - Canton Squirts
DESCRIPTION:Canton JFL Home Game - Canton Squirts
X-ALT-DESC;FMTTYPE=text/html:Canton JFL Home Game - Canton Squirts
LOCATION:JFL Football Field
UID:e.1688.5809
SEQUENCE:3
DTSTAMP:20260426T031431Z
URL:https://members.cantonillinois.org/events/details/jfl-home-game-canton-squirts-5809
END:VEVENT

END:VCALENDAR
