BEGIN:VCALENDAR
VERSION:2.0
PRODID:-//ChamberMaster//Event Calendar 2.0//EN
METHOD:PUBLISH
X-PUBLISHED-TTL:P3D
REFRESH-INTERVAL:P3D
CALSCALE:GREGORIAN
BEGIN:VEVENT
DTSTART:20181027T171500Z
DTEND:20181027T183000Z
X-MICROSOFT-CDO-ALLDAYEVENT:FALSE
SUMMARY:JFL Home Game - Canton Squirts
DESCRIPTION:Canton JFL Home Game - Canton Squirts Team
X-ALT-DESC;FMTTYPE=text/html:Canton JFL Home Game - Canton Squirts Team&nbsp\;&nbsp\;&nbsp\;&nbsp\;
LOCATION:JFL Football Field
UID:e.1688.5814
SEQUENCE:3
DTSTAMP:20260426T031436Z
URL:https://members.cantonillinois.org/events/details/jfl-home-game-canton-squirts-5814
END:VEVENT

END:VCALENDAR
