BEGIN:VCALENDAR
VERSION:2.0
PRODID:-//ChamberMaster//Event Calendar 2.0//EN
METHOD:PUBLISH
X-PUBLISHED-TTL:P3D
REFRESH-INTERVAL:P3D
CALSCALE:GREGORIAN
BEGIN:VEVENT
DTSTART:20181028T180000Z
DTEND:20181028T193000Z
X-MICROSOFT-CDO-ALLDAYEVENT:FALSE
SUMMARY:JFL Home Game - Canton Varsity
DESCRIPTION:Canton JFL Home Game - Canton Senior Varsity Team
X-ALT-DESC;FMTTYPE=text/html:Canton JFL Home Game - Canton Senior Varsity Team&nbsp\;
LOCATION:JFL Football Field
UID:e.1688.5815
SEQUENCE:3
DTSTAMP:20260426T031553Z
URL:https://members.cantonillinois.org/events/details/jfl-home-game-canton-varsity-5815
END:VEVENT

END:VCALENDAR
