BEGIN:VCALENDAR
VERSION:2.0
PRODID:-//ChamberMaster//Event Calendar 2.0//EN
METHOD:PUBLISH
X-PUBLISHED-TTL:P3D
REFRESH-INTERVAL:P3D
CALSCALE:GREGORIAN
BEGIN:VEVENT
DTSTART:20181029T203000Z
DTEND:20181029T213000Z
X-MICROSOFT-CDO-ALLDAYEVENT:FALSE
SUMMARY:LEGO CLUB
DESCRIPTION:Come to Parlin Ingersoll Library in Canton and get creative with LEGO's!\n\nWe supply the LEGO's and the child supplies the imagination!
X-ALT-DESC;FMTTYPE=text/html:Come to Parlin Ingersoll Library in Canton and get creative with LEGO&#39\;s!<br />\nWe supply the LEGO&#39\;s and the child supplies the imagination!
LOCATION:Parlin Ingersoll Library West Chestnut and Ave. B in Canton
UID:e.1688.5724
SEQUENCE:3
DTSTAMP:20260426T031322Z
URL:https://members.cantonillinois.org/events/details/lego-club-5724
END:VEVENT

END:VCALENDAR
