BEGIN:VCALENDAR
VERSION:2.0
PRODID:-//ChamberMaster//Event Calendar 2.0//EN
METHOD:PUBLISH
X-PUBLISHED-TTL:P3D
REFRESH-INTERVAL:P3D
CALSCALE:GREGORIAN
BEGIN:VEVENT
DTSTART:20210426T230000Z
DTEND:20210427T000000Z
X-MICROSOFT-CDO-ALLDAYEVENT:FALSE
SUMMARY:LGBTQ Partner/spousal Caregiver Support Group
DESCRIPTION:LGBTQ Partner/Spousal Caregiver Support Group Presented by: Alzheimer's Association Illinois Chapter This group is for: Caregiving spouses and partners\, providing care for a loved one who has Alzheimer's disease or another dementia\, who identify as LGBTQ Build a support system with people who understand. Alzheimer's Association  caregiver support groups\, conducted by trained facilitators\, are a safe place for caregivers\, family and friends of persons with dementia to:   Develop a support system.   Exchange practical information on caregiving challenges and possible solutions.   Talk through issues and ways of coping.   Share feelings\, needs and concerns.   L earn about community resources discussing Alzheimer's disease. Registration is required. Call our 24/7 HELPline at 800.272.3900 to Register.
X-ALT-DESC;FMTTYPE=text/html:LGBTQ Partner/Spousal Caregiver Support Group Presented by: Alzheimer&#39\;s Association Illinois Chapter This group is for: Caregiving spouses and partners\, providing care for a loved one who has Alzheimer&#39\;s disease or another dementia\, who identify as LGBTQ Build a support system with people who understand. Alzheimer&#39\;s Association&reg\; caregiver support groups\, conducted by trained facilitators\, are a safe place for caregivers\, family and friends of persons with dementia to: &bull\; Develop a support system. &bull\; Exchange practical information on caregiving challenges and possible solutions. &bull\; Talk through issues and ways of coping. &bull\; Share feelings\, needs and concerns. &bull\; L earn about community resources discussing Alzheimer&#39\;s disease. Registration is required. Call our 24/7 HELPline at 800.272.3900 to Register.
LOCATION:Via Zoom
UID:e.1688.7575
SEQUENCE:3
DTSTAMP:20260422T165619Z
URL:https://members.cantonillinois.org/events/details/lgbtq-partner-spousal-caregiver-support-group-7575
END:VEVENT

END:VCALENDAR
