BEGIN:VCALENDAR
VERSION:2.0
PRODID:-//ChamberMaster//Event Calendar 2.0//EN
METHOD:PUBLISH
X-PUBLISHED-TTL:P3D
REFRESH-INTERVAL:P3D
CALSCALE:GREGORIAN
BEGIN:VEVENT
DTSTART;VALUE=DATE:20181117
DTEND;VALUE=DATE:20181118
TRANSP:TRANSPARENT
X-MICROSOFT-CDO-ALLDAYEVENT:TRUE
SUMMARY:Live Music by The Stone Cold Cowboys at Big Horse Vineyards
DESCRIPTION:Live Music by the Stone Cold Cowboys
X-ALT-DESC;FMTTYPE=text/html:Live Music by the Stone Cold Cowboys&nbsp\;<br />\n&nbsp\;
LOCATION:Big Horse Vineyards 11603 N. County HWY 9 outside of Lewistown
UID:e.1688.5936
SEQUENCE:3
DTSTAMP:20260426T013934Z
URL:https://members.cantonillinois.org/events/details/live-music-by-the-stone-cold-cowboys-at-big-horse-vineyards-5936
END:VEVENT

END:VCALENDAR
