BEGIN:VCALENDAR
VERSION:2.0
PRODID:-//ChamberMaster//Event Calendar 2.0//EN
METHOD:PUBLISH
X-PUBLISHED-TTL:P3D
REFRESH-INTERVAL:P3D
CALSCALE:GREGORIAN
BEGIN:VEVENT
DTSTART:20210531T150000Z
DTEND:20210531T160000Z
X-MICROSOFT-CDO-ALLDAYEVENT:FALSE
SUMMARY:Memorial Day Services
DESCRIPTION:A Memorial Day tribute will be held in Jones Park on Monday\, May 31 at 10:00 AM in Jones Park by the VFW Post #1984\, American Legion Post #16\, and the Fulton County 40 & 8 Voiture 812.\n\n\n\nImmediately following this service\, a second tribute service will be held at the Veterans Memorial at Lakeland Park. Estimated time is 11:00 AM.
X-ALT-DESC;FMTTYPE=text/html:<span style="font-family: sans-serif\, Arial\, Verdana\, &quot\;Trebuchet MS&quot\;\; font-size: 13px\; color: rgb(29\, 33\, 41)\;"><span style="font-family: inherit\;"><span style="font-size: 10.5pt\;">A Memorial Day tribute will be held in Jones Park on Monday\, May 31 at 10:00 AM in Jones Park by the VFW Post #1984\, American Legion Post #16\, and the Fulton County 40 &amp\; 8 Voiture 812.</span></span></span><br style="color: rgb(51\, 51\, 51)\; font-family: sans-serif\, Arial\, Verdana\, &quot\;Trebuchet MS&quot\;\; font-size: 13px\;" />\n<br style="color: rgb(51\, 51\, 51)\; font-family: sans-serif\, Arial\, Verdana\, &quot\;Trebuchet MS&quot\;\; font-size: 13px\;" />\n<span style="font-family: sans-serif\, Arial\, Verdana\, &quot\;Trebuchet MS&quot\;\; font-size: 13px\; color: rgb(29\, 33\, 41)\;"><span style="font-family: inherit\;"><span style="font-size: 10.5pt\;">Immediately following this service\, a second tribute service will be held at the Veterans Memorial at Lakeland Park. Estimated time is 11:00 AM.</span></span></span>
LOCATION:Jones Park in Downtown Canton and Lakeland Park at the Veterans Memorial
UID:e.1688.7580
SEQUENCE:3
DTSTAMP:20260422T150233Z
URL:https://members.cantonillinois.org/events/details/memorial-day-services-7580
END:VEVENT

END:VCALENDAR
