BEGIN:VCALENDAR
VERSION:2.0
PRODID:-//ChamberMaster//Event Calendar 2.0//EN
METHOD:PUBLISH
X-PUBLISHED-TTL:P3D
REFRESH-INTERVAL:P3D
CALSCALE:GREGORIAN
BEGIN:VEVENT
DTSTART:20181121T163000Z
DTEND:20181121T180000Z
X-MICROSOFT-CDO-ALLDAYEVENT:FALSE
SUMMARY:Movie at the Library
DESCRIPTION:Movies at the Library\n\nCome to Parlin Ingersoll Library in Canton to watch your favorite movies. \n\nBring a covered drink and snack!
X-ALT-DESC;FMTTYPE=text/html:Movies at the Library<br />\nCome to Parlin Ingersoll Library in Canton to watch your favorite movies.&nbsp\;<br />\nBring a covered drink and snack!
LOCATION:Palin Ingersoll Library Corner of Chestnut and Ave. B in Canton
UID:e.1688.5723
SEQUENCE:3
DTSTAMP:20260426T031436Z
URL:https://members.cantonillinois.org/events/details/movie-at-the-library-5723
END:VEVENT

END:VCALENDAR
