BEGIN:VCALENDAR
VERSION:2.0
PRODID:-//ChamberMaster//Event Calendar 2.0//EN
METHOD:PUBLISH
X-PUBLISHED-TTL:P3D
REFRESH-INTERVAL:P3D
CALSCALE:GREGORIAN
BEGIN:VEVENT
DTSTART:20181026T220000Z
DTEND:20181027T000000Z
X-MICROSOFT-CDO-ALLDAYEVENT:FALSE
SUMMARY:Munchkin Masquerade - Presented by Canton Main Street
DESCRIPTION:If you are looking for an unsual way to have fun for Halloween\, make sure you come to Canton on the last Friday of October for Canton Main Street's Munchkin Masquerade. Families and children can enjoy safe trick-or-treating throughout the downtown area during Munchkin Masquerade\, a tradition that has evolved from "Merchant's Night" into spooky decorations and "Monster Mash" music throughout Jones Park. \n\n\n\nFree candy for the children\, music\, entertainment and an all-around funtastic celebration! Merchant's all over the immediate downtown area will be participating. Admission is free and open to the public.  Bring your costume\, your kids\, and your sweet tooth!
X-ALT-DESC;FMTTYPE=text/html:<span style="color: rgb(0\, 0\, 0)\; font-family: Verdana\, Sans\, Arial\, Helvetica\, sans-serif\; font-size: 13.3333px\;">If you are looking for an unsual way to have fun for Halloween\, make sure you come to Canton on the last Friday of October for Canton Main Street&#39\;s Munchkin Masquerade. Families and children can enjoy safe trick-or-treating throughout the downtown area during Munchkin Masquerade\, a tradition that has evolved from &quot\;Merchant&#39\;s Night&quot\; into spooky decorations and &quot\;Monster Mash&quot\; music&nbsp\;throughout Jones Park.&nbsp\;</span><br style="color: rgb(0\, 0\, 0)\; font-family: Verdana\, Sans\, Arial\, Helvetica\, sans-serif\; font-size: 13.3333px\;" />\n<br style="color: rgb(0\, 0\, 0)\; font-family: Verdana\, Sans\, Arial\, Helvetica\, sans-serif\; font-size: 13.3333px\;" />\n<span style="color: rgb(0\, 0\, 0)\; font-family: Verdana\, Sans\, Arial\, Helvetica\, sans-serif\; font-size: 13.3333px\;">Free candy for the children\, music\, entertainment and an all-around funtastic celebration! Merchant&#39\;s all over the immediate downtown area will be participating. Admission is free and open to the public.&nbsp\; Bring your costume\, your kids\, and your sweet tooth!</span>
LOCATION:Downtown Canton\, Illinois
UID:e.1688.2802
SEQUENCE:3
DTSTAMP:20260426T031707Z
URL:https://members.cantonillinois.org/events/details/munchkin-masquerade-presented-by-canton-main-street-2802
END:VEVENT

END:VCALENDAR
