BEGIN:VCALENDAR
VERSION:2.0
PRODID:-//ChamberMaster//Event Calendar 2.0//EN
METHOD:PUBLISH
X-PUBLISHED-TTL:P3D
REFRESH-INTERVAL:P3D
CALSCALE:GREGORIAN
BEGIN:VEVENT
DTSTART:20231201T233000Z
DTEND:20231202T020000Z
X-MICROSOFT-CDO-ALLDAYEVENT:FALSE
SUMMARY:Old Fashioned Christmas Walk
DESCRIPTION:Visit with Santa\, Carriage Rides\, Trolley Rides\, Madrigal singers\, Salvation Army Band\, Elf on the Shelf\, S'mores Making\, and special promotions at merchant shops around the downtown are all a part of this annual event! Plus\, store windows will be decorated and a gazebo wrapped in twinkling lights in Jones Park. What a holiday treat!. Admission to this event is free and open to the public. Some "rides" will require a small fee\n\n \n\nThis event is hosted by Canton Main Street.
X-ALT-DESC;FMTTYPE=text/html:<p style="margin-bottom: 5px\; margin-top: 0px\; color: rgb(0\, 0\, 0)\; font-family: Tahoma\, Arial\, Verdana\, sans-serif\; font-size: 14.6667px\;">Visit with Santa\, Carriage Rides\, Trolley Rides\, Madrigal singers\, Salvation Army Band\, Elf on the Shelf\, S&#39\;mores Making\,&nbsp\;and special promotions at merchant shops around the downtown are all a part of this annual event!&nbsp\;Plus\, store windows will be decorated and a gazebo wrapped in twinkling lights in Jones Park. What a holiday treat!.&nbsp\;Admission to this event is free and open to the public. Some &quot\;rides&quot\; will require a small fee</p>\n\n<p style="margin-bottom: 5px\; margin-top: 0px\; color: rgb(0\, 0\, 0)\; font-family: Tahoma\, Arial\, Verdana\, sans-serif\; font-size: 14.6667px\;">&nbsp\;</p>\n\n<p style="margin-bottom: 5px\; margin-top: 0px\; color: rgb(0\, 0\, 0)\; font-family: Tahoma\, Arial\, Verdana\, sans-serif\; font-size: 14.6667px\;">This event is hosted by Canton Main Street.</p>\n
LOCATION:Downtown Canton
UID:e.1688.8010
SEQUENCE:3
DTSTAMP:20260420T065754Z
URL:https://members.cantonillinois.org/events/details/old-fashioned-christmas-walk-8010
END:VEVENT

END:VCALENDAR
