BEGIN:VCALENDAR
VERSION:2.0
PRODID:-//ChamberMaster//Event Calendar 2.0//EN
METHOD:PUBLISH
X-PUBLISHED-TTL:P3D
REFRESH-INTERVAL:P3D
CALSCALE:GREGORIAN
BEGIN:VEVENT
DTSTART:20220107T220000Z
DTEND:20220108T000000Z
X-MICROSOFT-CDO-ALLDAYEVENT:FALSE
SUMMARY:Parlin Ingersoll "Orphan Train" Book Signing
DESCRIPTION:Book signing for "A Place for Me:  an Orphan's Journey Home" by Sandra McKay
X-ALT-DESC;FMTTYPE=text/html:Book signing for &quot\;A Place for Me:&nbsp\; an Orphan&#39\;s Journey Home&quot\; by Sandra McKay
LOCATION:Parlin-Ingersoll Library
UID:e.1688.7702
SEQUENCE:3
DTSTAMP:20260422T000241Z
URL:https://members.cantonillinois.org/events/details/parlin-ingersoll-orphan-train-book-signing-7702
END:VEVENT

END:VCALENDAR
