BEGIN:VCALENDAR
VERSION:2.0
PRODID:-//ChamberMaster//Event Calendar 2.0//EN
METHOD:PUBLISH
X-PUBLISHED-TTL:P3D
REFRESH-INTERVAL:P3D
CALSCALE:GREGORIAN
BEGIN:VEVENT
DTSTART:20181116T140000Z
DTEND:20181116T151500Z
X-MICROSOFT-CDO-ALLDAYEVENT:FALSE
SUMMARY:Salvation Army Kettle Kick Off Event
DESCRIPTION:Join us as we kick off our Red Kettle Season!! We will share together with Breakfast\, and the 2018 Red Kettle Goal will be shared! Don't miss out on this event!
X-ALT-DESC;FMTTYPE=text/html:<span style="font-size:14.0pt\;">Join us as we kick off our Red Kettle Season!! We will share together with Breakfast\, and the 2018 Red Kettle Goal will be shared! Don&#39\;t miss out on this event! </span>
LOCATION:Canton Elks Lodge 61 W. Ellm in Canton
UID:e.1688.5824
SEQUENCE:3
DTSTAMP:20260426T013433Z
URL:https://members.cantonillinois.org/events/details/salvation-army-kettle-kick-off-event-5824
END:VEVENT

END:VCALENDAR
