BEGIN:VCALENDAR
VERSION:2.0
PRODID:-//ChamberMaster//Event Calendar 2.0//EN
METHOD:PUBLISH
X-PUBLISHED-TTL:P3D
REFRESH-INTERVAL:P3D
CALSCALE:GREGORIAN
BEGIN:VEVENT
DTSTART:20221008T140000Z
DTEND:20221008T220000Z
X-MICROSOFT-CDO-ALLDAYEVENT:FALSE
SUMMARY:Scenic Drive
DESCRIPTION:Scenic Drive--Food\, Crafts\, Music\, Vendors
X-ALT-DESC;FMTTYPE=text/html:Scenic Drive--Food\, Crafts\, Music\, Vendors
LOCATION:Fulton County
UID:e.1688.7823
SEQUENCE:3
DTSTAMP:20260421T094127Z
URL:https://members.cantonillinois.org/events/details/scenic-drive-7823
END:VEVENT

END:VCALENDAR
