BEGIN:VCALENDAR
VERSION:2.0
PRODID:-//ChamberMaster//Event Calendar 2.0//EN
METHOD:PUBLISH
X-PUBLISHED-TTL:P3D
REFRESH-INTERVAL:P3D
CALSCALE:GREGORIAN
BEGIN:VEVENT
DTSTART:20210407T220000Z
DTEND:20210407T224500Z
X-MICROSOFT-CDO-ALLDAYEVENT:FALSE
SUMMARY:Seeking Balance: Investing in 2021 and Beyond
DESCRIPTION:Phil Haning\, a wealth management consultant with Capital Group (or more commonly known as American Funds)\, will be joining Maggie Cecil and doing a quick presentation about market updates and the opportunities for investments this year. There will be a brief Q&A session.
X-ALT-DESC;FMTTYPE=text/html:<span style="font-family:calibri\,sans-serif\;"><span style="font-size:11.0pt\;">Phil Haning\, a wealth management consultant with Capital Group (or more commonly known as American Funds)\, will be joining Maggie Cecil and doing a quick presentation about market updates and the opportunities for investments this year. There will be a brief Q&amp\;A session.</span></span>
LOCATION:Virtual via Zoom
UID:e.1688.7561
SEQUENCE:3
DTSTAMP:20260422T165903Z
URL:https://members.cantonillinois.org/events/details/seeking-balance-investing-in-2021-and-beyond-7561
END:VEVENT

END:VCALENDAR
