BEGIN:VCALENDAR
VERSION:2.0
PRODID:-//ChamberMaster//Event Calendar 2.0//EN
METHOD:PUBLISH
X-PUBLISHED-TTL:P3D
REFRESH-INTERVAL:P3D
CALSCALE:GREGORIAN
BEGIN:VEVENT
DTSTART:20221225T030000Z
DTEND:20221225T040000Z
X-MICROSOFT-CDO-ALLDAYEVENT:FALSE
SUMMARY:Shields Chapel United Methodist Church Christmas Eve Service
DESCRIPTION:Christmas Eve Service
X-ALT-DESC;FMTTYPE=text/html:Christmas Eve Service
LOCATION:Shields Chapel United Methodist Church 19044 E. Shields Chapel Lane West of Canton
UID:e.1688.7869
SEQUENCE:3
DTSTAMP:20260421T041615Z
URL:https://members.cantonillinois.org/events/details/shields-chapel-united-methodist-church-christmas-eve-service-7869
END:VEVENT

END:VCALENDAR
