BEGIN:VCALENDAR
VERSION:2.0
PRODID:-//ChamberMaster//Event Calendar 2.0//EN
METHOD:PUBLISH
X-PUBLISHED-TTL:P3D
REFRESH-INTERVAL:P3D
CALSCALE:GREGORIAN
BEGIN:VEVENT
DTSTART:20181014T130000Z
DTEND:20181014T220000Z
X-MICROSOFT-CDO-ALLDAYEVENT:FALSE
SUMMARY:Spoon River Valley Scenic Drive - Presented by Canton Main Street
DESCRIPTION:Two weekends of crafts\, demonstrations\, food music and fun throughout Fulton County and beyond.
X-ALT-DESC;FMTTYPE=text/html:<span style="font-family:times new roman\,serif\;"><span style="font-size:11.0pt\;"><span style="font-family:arial\;">Two weekends of crafts\, demonstrations\, food music and fun throughout Fulton County and beyond.&nbsp\;</span>&nbsp\;</span></span>
LOCATION:Jones Park\, Downtown Canton\, IL
UID:e.1688.2801
SEQUENCE:3
DTSTAMP:20260426T031610Z
URL:https://members.cantonillinois.org/events/details/spoon-river-valley-scenic-drive-10-14-2018-2801
END:VEVENT

END:VCALENDAR
