BEGIN:VCALENDAR
VERSION:2.0
PRODID:-//ChamberMaster//Event Calendar 2.0//EN
METHOD:PUBLISH
X-PUBLISHED-TTL:P3D
REFRESH-INTERVAL:P3D
CALSCALE:GREGORIAN
BEGIN:VEVENT
DTSTART:20240928T170000Z
DTEND:20240928T190000Z
X-MICROSOFT-CDO-ALLDAYEVENT:FALSE
SUMMARY:The Canton Senior High School Class of 1956 Reunion
DESCRIPTION:The Canton Senior High School Class of 1956 will meet for lunch at noon on Saturday\, September 28th\, at Country Line Bar and Grill\, 725 W. Locust Street in Canton.
X-ALT-DESC;FMTTYPE=text/html:<b style="color: rgb(66\, 66\, 66)\; font-family: &quot\;Helvetica Neue&quot\;\, Helvetica\, Arial\, sans-serif\; font-size: 16px\;">The Canton Senior High School Class of 1956 will meet for lunch at noon on Saturday\, September 28th\, at Country Line Bar and Grill\, 725 W. Locust Street in Canton.</b>
LOCATION:Country Line Bar & Grill 725 W. Locust Street in Canton
UID:e.1688.8333
SEQUENCE:3
DTSTAMP:20260419T151957Z
URL:https://members.cantonillinois.org/events/details/the-canton-senior-high-school-class-of-1956-reunion-8333
END:VEVENT

END:VCALENDAR
