BEGIN:VCALENDAR
VERSION:2.0
PRODID:-//ChamberMaster//Event Calendar 2.0//EN
METHOD:PUBLISH
X-PUBLISHED-TTL:P3D
REFRESH-INTERVAL:P3D
CALSCALE:GREGORIAN
BEGIN:VEVENT
DTSTART:20210806T210000Z
DTEND:20210806T230000Z
X-MICROSOFT-CDO-ALLDAYEVENT:FALSE
SUMMARY:The Local Latch-On
DESCRIPTION:The Fulton County Health Department will be joined by Crindy Hedges RN\, IBCLC representing Graham Hospital and the Spoon River Pregnancy Center.\n\n\n\nOur goal is to bring awareness to the benefits of breastfeeding as well as awareness to the resources we have available in Fulton County for our Pregnant and Breastfeeding Moms!
X-ALT-DESC;FMTTYPE=text/html:The Fulton County Health Department will be joined by Crindy Hedges RN\, IBCLC representing Graham Hospital and the Spoon River Pregnancy Center.<br />\n<br />\nOur goal is to bring awareness to the benefits of breastfeeding as well as awareness to the resources we have available in Fulton County for our Pregnant and Breastfeeding Moms!
LOCATION:Jones Park in Downtown Canton 5 Main Street Canton\, IL 61520
UID:e.1688.7630
SEQUENCE:3
DTSTAMP:20260422T095708Z
URL:https://members.cantonillinois.org/events/details/the-local-latch-on-7630
END:VEVENT

END:VCALENDAR
