BEGIN:VCALENDAR
VERSION:2.0
PRODID:-//ChamberMaster//Event Calendar 2.0//EN
METHOD:PUBLISH
X-PUBLISHED-TTL:P3D
REFRESH-INTERVAL:P3D
CALSCALE:GREGORIAN
BEGIN:VEVENT
DTSTART:20181030T150000Z
DTEND:20181031T033000Z
X-MICROSOFT-CDO-ALLDAYEVENT:FALSE
SUMMARY:Toddler Storytime
DESCRIPTION:Come and enjoy our five week program\, showcasing a variety of children's stories\, activities\, songs and fingerplay.\n\n\n\nFor ages 1 and 2 year olds
X-ALT-DESC;FMTTYPE=text/html:Come and enjoy our five week program\, showcasing a variety of children&#39\;s stories\, activities\, songs and fingerplay.<br />\n<br />\nFor ages 1 and 2 year olds
LOCATION:Parlin Ingersoll Library - West Chestnut & Avenue B in Canton
UID:e.1688.5736
SEQUENCE:3
DTSTAMP:20260426T031431Z
URL:https://members.cantonillinois.org/events/details/toddler-storytime-5736
END:VEVENT

END:VCALENDAR
