BEGIN:VCALENDAR
VERSION:2.0
PRODID:-//ChamberMaster//Event Calendar 2.0//EN
METHOD:PUBLISH
X-PUBLISHED-TTL:P3D
REFRESH-INTERVAL:P3D
CALSCALE:GREGORIAN
BEGIN:VEVENT
DTSTART:20181026T233000Z
DTEND:20181027T013000Z
X-MICROSOFT-CDO-ALLDAYEVENT:FALSE
SUMMARY:Trick or Treat at Graham Hospital
DESCRIPTION:Trick or Treat at Graham Hospital\n\nEnter at the main lobby
X-ALT-DESC;FMTTYPE=text/html:Trick or Treat at Graham Hospital<br />\nEnter at the main lobby
LOCATION:Graham Hospital 210 W. Walnut in Canton
UID:e.1688.5845
SEQUENCE:3
DTSTAMP:20260426T031855Z
URL:https://members.cantonillinois.org/events/details/trick-or-treat-at-graham-hospital-5845
END:VEVENT

END:VCALENDAR
