BEGIN:VCALENDAR
VERSION:2.0
PRODID:-//ChamberMaster//Event Calendar 2.0//EN
METHOD:PUBLISH
X-PUBLISHED-TTL:P3D
REFRESH-INTERVAL:P3D
CALSCALE:GREGORIAN
BEGIN:VEVENT
DTSTART:20181103T230000Z
DTEND:20181104T020000Z
X-MICROSOFT-CDO-ALLDAYEVENT:FALSE
SUMMARY:Trivia Night Fundraiser
DESCRIPTION:Trivia Night Fundraiser for I-CARE\, Inc. a 501-C3 serving Fulton County\n\nDoors open at 5:30 pm. Bring snacks for your team and drinks will be available for purchase. $100 per table with up to 10 people per team.
X-ALT-DESC;FMTTYPE=text/html:Trivia Night Fundraiser for I-CARE\, Inc. a 501-C3 serving Fulton County<br />\nDoors open at 5:30 pm. Bring snacks for your team and drinks will be available for purchase. $100 per table with up to 10 people per team.
LOCATION:Canton Elks Lodge W. Elm in Canton
UID:e.1688.5840
SEQUENCE:3
DTSTAMP:20260426T013142Z
URL:https://members.cantonillinois.org/events/details/trivia-night-fundraiser-5840
END:VEVENT

END:VCALENDAR
