BEGIN:VCALENDAR
VERSION:2.0
PRODID:-//ChamberMaster//Event Calendar 2.0//EN
METHOD:PUBLISH
X-PUBLISHED-TTL:P3D
REFRESH-INTERVAL:P3D
CALSCALE:GREGORIAN
BEGIN:VEVENT
DTSTART:20220924T140000Z
DTEND:20220924T170000Z
X-MICROSOFT-CDO-ALLDAYEVENT:FALSE
SUMMARY:Trunk of Treasures Sale
DESCRIPTION:Trunks of Treasures sale will take place in the parking lot of South Park United Methodist Church located at 600 South 1st Avenue in Canton on Saturday\, September 24th from 9 am to noon. \n\n\n\nItems available: housewares\, miscellaneous and baked goods. \n\n\n\nRain Date is September 30th from 4 to 7 pm
X-ALT-DESC;FMTTYPE=text/html:Trunks of Treasures sale will take place in the parking lot of South Park United Methodist Church located at 600 South 1st Avenue in Canton on Saturday\, September 24th from 9 am to noon.&nbsp\;<br />\n<br />\nItems available: housewares\, miscellaneous and baked goods.&nbsp\;<br />\n<br />\nRain Date is September 30th from 4 to 7 pm&nbsp\;
LOCATION:South Park UMC 600 S. 1st Ave in Canton
UID:e.1688.7815
SEQUENCE:3
DTSTAMP:20260421T095013Z
URL:https://members.cantonillinois.org/events/details/trunk-of-treasures-sale-7815
END:VEVENT

END:VCALENDAR
