BEGIN:VCALENDAR
VERSION:2.0
PRODID:-//ChamberMaster//Event Calendar 2.0//EN
METHOD:PUBLISH
X-PUBLISHED-TTL:P3D
REFRESH-INTERVAL:P3D
CALSCALE:GREGORIAN
BEGIN:VEVENT
DTSTART:20220604T140000Z
DTEND:20220604T220000Z
X-MICROSOFT-CDO-ALLDAYEVENT:FALSE
SUMMARY:Trunks of Treasures
DESCRIPTION:Trunks of Treasures sale will be at the South Park Methodist Church. Many houseware items\, miscellaneous and goodies\, too! No early sales. Will reschedule if it rains.
X-ALT-DESC;FMTTYPE=text/html:Trunks of Treasures sale will be at the South Park Methodist Church. Many houseware items\, miscellaneous and goodies\, too! No early sales. Will reschedule if it rains.&nbsp\;
LOCATION:South Park Methodist Church 600 South 1st Avenue Canton
UID:e.1688.7734
SEQUENCE:3
DTSTAMP:20260421T165021Z
URL:https://members.cantonillinois.org/events/details/trunks-of-treasures-7734
END:VEVENT

END:VCALENDAR
