BEGIN:VCALENDAR
VERSION:2.0
PRODID:-//ChamberMaster//Event Calendar 2.0//EN
METHOD:PUBLISH
X-PUBLISHED-TTL:P3D
REFRESH-INTERVAL:P3D
CALSCALE:GREGORIAN
BEGIN:VEVENT
DTSTART:20201015T210000Z
DTEND:20201015T220000Z
X-MICROSOFT-CDO-ALLDAYEVENT:FALSE
SUMMARY:Understanding and Responding to Dementia Related Behavior Webinar
DESCRIPTION:Alzheimer's Association Education Program Watch online or listen by phone Register Online or by Calling 800.272.3900 Registration Link https://www.communityresourcefinder.org/ResourceView/Index?id=1977620&profileDefinitionId=93
X-ALT-DESC;FMTTYPE=text/html:Alzheimer&#39\;s Association Education Program Watch online or listen by phone Register Online or by Calling 800.272.3900 Registration Link https://www.communityresourcefinder.org/ResourceView/Index?id=1977620&amp\;profileDefinitionId=93
LOCATION:webinar
UID:e.1688.7480
SEQUENCE:3
DTSTAMP:20260424T050229Z
URL:https://members.cantonillinois.org/events/details/understanding-and-responding-to-dementia-related-behavior-webinar-10-15-2020-7480
END:VEVENT

END:VCALENDAR
