BEGIN:VCALENDAR
VERSION:2.0
PRODID:-//ChamberMaster//Event Calendar 2.0//EN
METHOD:PUBLISH
X-PUBLISHED-TTL:P3D
REFRESH-INTERVAL:P3D
CALSCALE:GREGORIAN
BEGIN:VEVENT
DTSTART:20181111T163000Z
DTEND:20181111T180000Z
X-MICROSOFT-CDO-ALLDAYEVENT:FALSE
SUMMARY:Veterans Day Ceremony in Jones Park/Lakeland Park
DESCRIPTION:A service will be held in Jones Park on November 11th\, at 10:30 AM with a moment of silence at 11:00 AM in Jones Park by the VFW Post #1984\, American Legion Post #16\, and the Fulton County 40 & 8 Voiture 812.\n\n\n\nImmediately following this service\, a second service will be held at the veterans memorial at Lakeland Park. Estimated time is 11:30 AM. \n\n\n\nFollowing the second service\, members of the veterans organizations will visit other veterans in local nursing homes and assisted living facilities.
X-ALT-DESC;FMTTYPE=text/html:<span style="color:#1D2129\;"><span style="font-family:inherit\;"><span style="font-size:10.5pt\;">A service will be held in Jones Park on November 11th\, at 10:30 AM with a moment of silence at 11:00 AM in Jones Park by the VFW Post #1984\, American Legion Post #16\, and the Fulton County 40 &amp\; 8 Voiture 812.</span></span></span><br />\n<br />\n<span style="color:#1D2129\;"><span style="font-family:inherit\;"><span style="font-size:10.5pt\;">Immediately following this service\, a second service will be held at the veterans memorial at Lakeland Park. Estimated time is 11:30 AM. </span></span></span><br />\n<br />\n<span style="color:#1D2129\;"><span style="font-family:inherit\;"><span style="font-size:10.5pt\;">Following the second service\, members of the veterans organizations will visit other veterans in local nursing homes and assisted living facilities. </span></span></span><br />\n&nbsp\;
LOCATION:Jones Park at 10:30 am Lakeland Park estimated time 11:30 am
UID:e.1688.5918
SEQUENCE:3
DTSTAMP:20260426T013928Z
URL:https://members.cantonillinois.org/events/details/veterans-day-ceremony-in-jones-park-lakeland-park-5918
END:VEVENT

END:VCALENDAR
