BEGIN:VCALENDAR
VERSION:2.0
PRODID:-//ChamberMaster//Event Calendar 2.0//EN
METHOD:PUBLISH
X-PUBLISHED-TTL:P3D
REFRESH-INTERVAL:P3D
CALSCALE:GREGORIAN
BEGIN:VEVENT
DTSTART:20240608T140000Z
DTEND:20240608T150000Z
X-MICROSOFT-CDO-ALLDAYEVENT:FALSE
SUMMARY:Walk for Life
DESCRIPTION:Spoon River Pregnancy is hosting their annual Walk for Life. Walkers will collect their donations prior to event. The day of the event we will join together and walk the path at Wallace Park.
X-ALT-DESC;FMTTYPE=text/html:Spoon River Pregnancy is hosting their annual Walk for Life. Walkers will collect their donations prior to event. The day of the event we will join together and walk the path at Wallace Park.
LOCATION:Wallace Park\, Canton\, IL
UID:e.1688.8183
SEQUENCE:3
DTSTAMP:20260419T214726Z
URL:https://members.cantonillinois.org/events/details/walk-for-life-06-08-2024-8183
END:VEVENT

END:VCALENDAR
