BEGIN:VCALENDAR
VERSION:2.0
PRODID:-//ChamberMaster//Event Calendar 2.0//EN
METHOD:PUBLISH
X-PUBLISHED-TTL:P3D
REFRESH-INTERVAL:P3D
CALSCALE:GREGORIAN
BEGIN:VEVENT
DTSTART:20181013T143000Z
DTEND:20181013T170000Z
X-MICROSOFT-CDO-ALLDAYEVENT:FALSE
SUMMARY:Walk to End Alzheimer's - Peoria Metro
DESCRIPTION:Walk to End Alzheimer's - Peoria Metro
X-ALT-DESC;FMTTYPE=text/html:Walk to End Alzheimer&#39\;s - Peoria Metro
LOCATION:Liberty Park - Peoria Riverfront 1 Liberty Street in Peoria\, IL
UID:e.1688.4046
SEQUENCE:3
DTSTAMP:20260426T031835Z
URL:https://members.cantonillinois.org/events/details/walk-to-end-alzheimer-s-peoria-metro-4046
END:VEVENT

END:VCALENDAR
