BEGIN:VCALENDAR
VERSION:2.0
PRODID:-//ChamberMaster//Event Calendar 2.0//EN
METHOD:PUBLISH
X-PUBLISHED-TTL:P3D
REFRESH-INTERVAL:P3D
CALSCALE:GREGORIAN
BEGIN:VEVENT
DTSTART:20230409T113000Z
DTEND:20230409T170000Z
X-MICROSOFT-CDO-ALLDAYEVENT:FALSE
SUMMARY:Wesley United Methodist Church's Easter Service
DESCRIPTION:Easter Services
X-ALT-DESC;FMTTYPE=text/html:Easter Services
LOCATION:Wesley United Methodist Church 120 North Avenue A Canton\, IL 61520
UID:e.1688.7917
SEQUENCE:3
DTSTAMP:20260420T224733Z
URL:https://members.cantonillinois.org/events/details/wesley-united-methodist-church-s-easter-service-7917
END:VEVENT

END:VCALENDAR
