BEGIN:VCALENDAR
VERSION:2.0
PRODID:-//ChamberMaster//Event Calendar 2.0//EN
METHOD:PUBLISH
X-PUBLISHED-TTL:P3D
REFRESH-INTERVAL:P3D
CALSCALE:GREGORIAN
BEGIN:VEVENT
DTSTART:20230408T000000Z
DTEND:20230408T010000Z
X-MICROSOFT-CDO-ALLDAYEVENT:FALSE
SUMMARY:Wesley United Methodist Church's Good Friday Service
DESCRIPTION:Good Friday Service
X-ALT-DESC;FMTTYPE=text/html:Good Friday Service
LOCATION:Wesley United Methodist Church 120 North Avenue A Canton\, IL 61520
UID:e.1688.7916
SEQUENCE:3
DTSTAMP:20260420T225036Z
URL:https://members.cantonillinois.org/events/details/wesley-united-methodist-church-s-good-friday-service-7916
END:VEVENT

END:VCALENDAR
